BEGIN:VCALENDAR
VERSION:2.0
PRODID:-//Georgia Spartans - ECPv6.15.20//NONSGML v1.0//EN
CALSCALE:GREGORIAN
METHOD:PUBLISH
X-ORIGINAL-URL:https://gaspartans.com
X-WR-CALDESC:Events for Georgia Spartans
REFRESH-INTERVAL;VALUE=DURATION:PT1H
X-Robots-Tag:noindex
X-PUBLISHED-TTL:PT1H
BEGIN:VTIMEZONE
TZID:America/Halifax
BEGIN:DAYLIGHT
TZOFFSETFROM:-0400
TZOFFSETTO:-0300
TZNAME:ADT
DTSTART:20220313T060000
END:DAYLIGHT
BEGIN:STANDARD
TZOFFSETFROM:-0300
TZOFFSETTO:-0400
TZNAME:AST
DTSTART:20221106T050000
END:STANDARD
BEGIN:DAYLIGHT
TZOFFSETFROM:-0400
TZOFFSETTO:-0300
TZNAME:ADT
DTSTART:20230312T060000
END:DAYLIGHT
BEGIN:STANDARD
TZOFFSETFROM:-0300
TZOFFSETTO:-0400
TZNAME:AST
DTSTART:20231105T050000
END:STANDARD
BEGIN:DAYLIGHT
TZOFFSETFROM:-0400
TZOFFSETTO:-0300
TZNAME:ADT
DTSTART:20240310T060000
END:DAYLIGHT
BEGIN:STANDARD
TZOFFSETFROM:-0300
TZOFFSETTO:-0400
TZNAME:AST
DTSTART:20241103T050000
END:STANDARD
END:VTIMEZONE
BEGIN:VEVENT
DTSTART;TZID=America/Halifax:20231028T180000
DTEND;TZID=America/Halifax:20231028T210000
DTSTAMP:20260423T154613
CREATED:20230918T162853Z
LAST-MODIFIED:20230918T162853Z
UID:10429-1698516000-1698526800@gaspartans.com
SUMMARY:DeKalb Art at the Park
DESCRIPTION:DeKalb art at the park is a great event showcasing some of the greatest art artist in Ga. This is 80’s\,90’s and 2000’s music edition!! \nWe are going to have modern art\, fine art\, black art\, industrial designs\, art showcase. \nWe also having wine tasting and live music. \nTHIS EVENT WILL BE INSIDE
URL:https://gaspartans.com/event/dekalb-art-at-the-park/
LOCATION:Exchange Park 2771 Columbia Drive Decatur\, GA 30034 United States
CATEGORIES:ART SHOWCASE
END:VEVENT
END:VCALENDAR